BEGIN:VCALENDAR
VERSION:2.0
PRODID:-//MoreDirt v1.0//EN
BEGIN:VEVENT
DTSTAMP:20150730T130000Z
ORGANIZER;CN=Lewes Cycle Shack:MAILTO:
STATUS:CONFIRMED
UID:MORESPORTSNETWORK2860
DTSTART:20180514T080000Z
DTEND:20180514T120000Z
SUMMARY:Lewes Cycle Shack E-Bike Demo Weekend and Film festival
DESCRIPTION:Lewes Cycle Shack E-Bike Demo Weekend and Film festival - more details: https://www.moredirt.com/event/2860
X-ALT-DESC;FMTTYPE=text/html:Lewes Cycle Shack E-Bike Demo Weekend and Film festival - more details: https://www.moredirt.com/event/2860
LOCATION:
END:VEVENT
END:VCALENDAR