BEGIN:VCALENDAR
VERSION:2.0
PRODID:-//MoreDirt v1.0//EN
BEGIN:VEVENT
DTSTAMP:20150730T130000Z
ORGANIZER;CN=Keswick Bikes:MAILTO:
STATUS:CONFIRMED
UID:MORESPORTSNETWORK2852
DTSTART:20180310T080000+0000
DTEND:20180310T120000+0000
SUMMARY:Keswick Bikes - Pivot Demo Event
DESCRIPTION:Keswick Bikes - Pivot Demo Event - more details: https://www.moredirt.com/event/2852
X-ALT-DESC;FMTTYPE=text/html:Keswick Bikes - Pivot Demo Event - more details: https://www.moredirt.com/event/2852
LOCATION:
END:VEVENT
END:VCALENDAR