BEGIN:VCALENDAR
VERSION:2.0
PRODID:-//MoreDirt v1.0//EN
BEGIN:VEVENT
DTSTAMP:20150730T130000Z
ORGANIZER;CN=Start Fitness:MAILTO:
STATUS:CONFIRMED
UID:MORESPORTSNETWORK2843
DTSTART:20180407T080000Z
DTEND:20180407T120000Z
SUMMARY:Santa Cruz and Orange Bikes Demo Day
DESCRIPTION:Santa Cruz and Orange Bikes Demo Day - more details: https://www.moredirt.com/event/2843
X-ALT-DESC;FMTTYPE=text/html:Santa Cruz and Orange Bikes Demo Day - more details: https://www.moredirt.com/event/2843
LOCATION:
END:VEVENT
END:VCALENDAR