BEGIN:VCALENDAR
VERSION:2.0
PRODID:-//MoreDirt v1.0//EN
BEGIN:VEVENT
DTSTAMP:20150730T130000Z
ORGANIZER;CN=Bike Seven:MAILTO:
STATUS:CONFIRMED
UID:MORESPORTSNETWORK2832
DTSTART:20180304T080000+0000
DTEND:20180304T120000+0000
SUMMARY:Border Blast 2018
DESCRIPTION:Border Blast 2018 - more details: https://www.moredirt.com/event/2832
X-ALT-DESC;FMTTYPE=text/html:Border Blast 2018 - more details: https://www.moredirt.com/event/2832
LOCATION:
END:VEVENT
END:VCALENDAR