BEGIN:VCALENDAR
VERSION:2.0
PRODID:-//MoreDirt v1.0//EN
BEGIN:VEVENT
DTSTAMP:20150730T130000Z
ORGANIZER;CN=Dales Cycles:MAILTO:
STATUS:CONFIRMED
UID:MORESPORTSNETWORK2830
DTSTART:20180318T080000+0000
DTEND:20180318T120000+0000
SUMMARY:Dales Cycles Specialized and Giant Demo Day
DESCRIPTION:Dales Cycles Specialized and Giant Demo Day - more details: https://www.moredirt.com/event/2830
X-ALT-DESC;FMTTYPE=text/html:Dales Cycles Specialized and Giant Demo Day - more details: https://www.moredirt.com/event/2830
LOCATION:
END:VEVENT
END:VCALENDAR