BEGIN:VCALENDAR
VERSION:2.0
PRODID:-//MoreDirt v1.0//EN
BEGIN:VEVENT
DTSTAMP:20150730T130000Z
ORGANIZER;CN=Tredz:MAILTO:
STATUS:CONFIRMED
UID:MORESPORTSNETWORK2824
DTSTART:20180428T080000Z
DTEND:20180428T120000Z
SUMMARY:Tredz Big Demo Day
DESCRIPTION:Tredz Big Demo Day - more details: https://www.moredirt.com/event/2824
X-ALT-DESC;FMTTYPE=text/html:Tredz Big Demo Day - more details: https://www.moredirt.com/event/2824
LOCATION:
END:VEVENT
END:VCALENDAR