BEGIN:VCALENDAR
VERSION:2.0
PRODID:-//MoreDirt v1.0//EN
BEGIN:VEVENT
DTSTAMP:20150730T130000Z
ORGANIZER;CN=Belchford Events:MAILTO:
STATUS:CONFIRMED
UID:MORESPORTSNETWORK2823
DTSTART:20180916T080000Z
DTEND:20180916T120000Z
SUMMARY:Lincs BOx Event 2018
DESCRIPTION:Lincs BOx Event 2018 - more details: https://www.moredirt.com/event/2823
X-ALT-DESC;FMTTYPE=text/html:Lincs BOx Event 2018 - more details: https://www.moredirt.com/event/2823
LOCATION:
END:VEVENT
END:VCALENDAR