BEGIN:VCALENDAR
VERSION:2.0
PRODID:-//MoreDirt v1.0//EN
BEGIN:VEVENT
DTSTAMP:20150730T130000Z
ORGANIZER;CN=Leisure Lakes Bikes:MAILTO:
STATUS:CONFIRMED
UID:MORESPORTSNETWORK2819
DTSTART:20180324T080000+0000
DTEND:20180325T120000Z
SUMMARY:Leisure Lakes Demo Weekend 2018
DESCRIPTION:Leisure Lakes Demo Weekend 2018 - more details: https://www.moredirt.com/event/2819
X-ALT-DESC;FMTTYPE=text/html:Leisure Lakes Demo Weekend 2018 - more details: https://www.moredirt.com/event/2819
LOCATION:
END:VEVENT
END:VCALENDAR