BEGIN:VCALENDAR
VERSION:2.0
PRODID:-//MoreDirt v1.0//EN
BEGIN:VEVENT
DTSTAMP:20150730T130000Z
ORGANIZER;CN=Escape Bikes:MAILTO:
STATUS:CONFIRMED
UID:MORESPORTSNETWORK2816
DTSTART:20180303T080000+0000
DTEND:20180303T120000+0000
SUMMARY:Specialized & Whyte Mountain Bike Demo Day
DESCRIPTION:Specialized & Whyte Mountain Bike Demo Day - more details: https://www.moredirt.com/event/2816
X-ALT-DESC;FMTTYPE=text/html:Specialized & Whyte Mountain Bike Demo Day - more details: https://www.moredirt.com/event/2816
LOCATION:
END:VEVENT
END:VCALENDAR