BEGIN:VCALENDAR
VERSION:2.0
PRODID:-//MoreDirt v1.0//EN
BEGIN:VEVENT
DTSTAMP:20150730T130000Z
ORGANIZER;CN=Quench Cycles:MAILTO:
STATUS:CONFIRMED
UID:MORESPORTSNETWORK2809
DTSTART:20180211T080000+0000
DTEND:20180211T120000+0000
SUMMARY:E-Bike Demo Day - Quench Cycles
DESCRIPTION:E-Bike Demo Day - Quench Cycles - more details: https://www.moredirt.com/event/2809
X-ALT-DESC;FMTTYPE=text/html:E-Bike Demo Day - Quench Cycles - more details: https://www.moredirt.com/event/2809
LOCATION:
END:VEVENT
END:VCALENDAR