BEGIN:VCALENDAR
VERSION:2.0
PRODID:-//MoreDirt v1.0//EN
BEGIN:VEVENT
DTSTAMP:20150730T130000Z
ORGANIZER;CN=Royal British Legion Bovington:MAILTO:
STATUS:CONFIRMED
UID:MORESPORTSNETWORK2797
DTSTART:20180428T080000Z
DTEND:20180428T120000Z
SUMMARY:RBL Bovington Mountain Bike Sportive
DESCRIPTION:RBL Bovington Mountain Bike Sportive - more details: https://www.moredirt.com/event/2797
X-ALT-DESC;FMTTYPE=text/html:RBL Bovington Mountain Bike Sportive - more details: https://www.moredirt.com/event/2797
LOCATION:
END:VEVENT
END:VCALENDAR