BEGIN:VCALENDAR
VERSION:2.0
PRODID:-//MoreDirt v1.0//EN
BEGIN:VEVENT
DTSTAMP:20150730T130000Z
ORGANIZER;CN=:MAILTO:
STATUS:CONFIRMED
UID:MORESPORTSNETWORK2794
DTSTART:20180317T080000+0000
DTEND:20180319T120000+0000
SUMMARY:WHEELBASE Big Demo Weekend
DESCRIPTION:WHEELBASE Big Demo Weekend - more details: https://www.moredirt.com/event/2794
X-ALT-DESC;FMTTYPE=text/html:WHEELBASE Big Demo Weekend - more details: https://www.moredirt.com/event/2794
LOCATION:
END:VEVENT
END:VCALENDAR