BEGIN:VCALENDAR
VERSION:2.0
PRODID:-//MoreDirt v1.0//EN
BEGIN:VEVENT
DTSTAMP:20150730T130000Z
ORGANIZER;CN=Otec Bikes:MAILTO:
STATUS:CONFIRMED
UID:MORESPORTSNETWORK2791
DTSTART:20180310T080000+0000
DTEND:20180311T120000+0000
SUMMARY:Demo Day - Aston Hill
DESCRIPTION:Demo Day - Aston Hill - more details: https://www.moredirt.com/event/2791
X-ALT-DESC;FMTTYPE=text/html:Demo Day - Aston Hill - more details: https://www.moredirt.com/event/2791
LOCATION:
END:VEVENT
END:VCALENDAR