BEGIN:VCALENDAR
VERSION:2.0
PRODID:-//MoreDirt v1.0//EN
BEGIN:VEVENT
DTSTAMP:20150730T130000Z
ORGANIZER;CN=Alpkit:MAILTO:
STATUS:CONFIRMED
UID:MORESPORTSNETWORK2776
DTSTART:20180420T080000Z
DTEND:20180421T120000Z
SUMMARY:Dirty Reiver 2018
DESCRIPTION:Dirty Reiver 2018 - more details: https://www.moredirt.com/event/2776
X-ALT-DESC;FMTTYPE=text/html:Dirty Reiver 2018 - more details: https://www.moredirt.com/event/2776
LOCATION:
END:VEVENT
END:VCALENDAR