BEGIN:VCALENDAR
VERSION:2.0
PRODID:-//MoreDirt v1.0//EN
BEGIN:VEVENT
DTSTAMP:20150730T130000Z
ORGANIZER;CN=Brighton Big Dog:MAILTO:
STATUS:CONFIRMED
UID:MORESPORTSNETWORK2708
DTSTART:20180811T080000Z
DTEND:20180811T120000Z
SUMMARY:Brighton Big Dog 2018
DESCRIPTION:Brighton Big Dog 2018 - more details: https://www.moredirt.com/event/2708
X-ALT-DESC;FMTTYPE=text/html:Brighton Big Dog 2018 - more details: https://www.moredirt.com/event/2708
LOCATION:
END:VEVENT
END:VCALENDAR