BEGIN:VCALENDAR
VERSION:2.0
PRODID:-//MoreDirt v1.0//EN
BEGIN:VEVENT
DTSTAMP:20150730T130000Z
ORGANIZER;CN=Highland Perthshire Cycling:MAILTO:
STATUS:CONFIRMED
UID:MORESPORTSNETWORK2706
DTSTART:20180428T080000Z
DTEND:20180428T120000Z
SUMMARY:The Dunkeld Enduro 2018
DESCRIPTION:The Dunkeld Enduro 2018 - more details: https://www.moredirt.com/event/2706
X-ALT-DESC;FMTTYPE=text/html:The Dunkeld Enduro 2018 - more details: https://www.moredirt.com/event/2706
LOCATION:
END:VEVENT
END:VCALENDAR