BEGIN:VCALENDAR
VERSION:2.0
PRODID:-//MoreDirt v1.0//EN
BEGIN:VEVENT
DTSTAMP:20150730T130000Z
ORGANIZER;CN=Yorkshire True Grit:MAILTO:
STATUS:CONFIRMED
UID:MORESPORTSNETWORK2705
DTSTART:20180622T080000Z
DTEND:20180624T120000Z
SUMMARY:Yorkshire True Grit 2018
DESCRIPTION:Yorkshire True Grit 2018 - more details: https://www.moredirt.com/event/2705
X-ALT-DESC;FMTTYPE=text/html:Yorkshire True Grit 2018 - more details: https://www.moredirt.com/event/2705
LOCATION:
END:VEVENT
END:VCALENDAR