BEGIN:VCALENDAR
VERSION:2.0
PRODID:-//MoreDirt v1.0//EN
BEGIN:VEVENT
DTSTAMP:20150730T130000Z
ORGANIZER;CN=Malverns Festival:MAILTO:
STATUS:CONFIRMED
UID:MORESPORTSNETWORK2694
DTSTART:20180616T080000Z
DTEND:20180616T120000Z
SUMMARY:Malverns Classic Fundurro 2018
DESCRIPTION:Malverns Classic Fundurro 2018 - more details: https://www.moredirt.com/event/2694
X-ALT-DESC;FMTTYPE=text/html:Malverns Classic Fundurro 2018 - more details: https://www.moredirt.com/event/2694
LOCATION:
END:VEVENT
END:VCALENDAR