BEGIN:VCALENDAR
VERSION:2.0
PRODID:-//MoreDirt v1.0//EN
BEGIN:VEVENT
DTSTAMP:20150730T130000Z
ORGANIZER;CN=EnduramA:MAILTO:
STATUS:CONFIRMED
UID:MORESPORTSNETWORK2653
DTSTART:20180301T080000+0000
DTEND:20180301T120000+0000
SUMMARY:Endurama SunRace 2018
DESCRIPTION:Endurama SunRace 2018 - more details: https://www.moredirt.com/event/2653
X-ALT-DESC;FMTTYPE=text/html:Endurama SunRace 2018 - more details: https://www.moredirt.com/event/2653
LOCATION:
END:VEVENT
END:VCALENDAR