BEGIN:VCALENDAR
VERSION:2.0
PRODID:-//MoreDirt v1.0//EN
BEGIN:VEVENT
DTSTAMP:20150730T130000Z
ORGANIZER;CN=Yorkshire True Grit:MAILTO:
STATUS:CONFIRMED
UID:MORESPORTSNETWORK2612
DTSTART:20180224T080000+0000
DTEND:20180224T120000+0000
SUMMARY:Yorkshire True Grit Dark Skies
DESCRIPTION:Yorkshire True Grit Dark Skies - more details: https://www.moredirt.com/event/2612
X-ALT-DESC;FMTTYPE=text/html:Yorkshire True Grit Dark Skies - more details: https://www.moredirt.com/event/2612
LOCATION:
END:VEVENT
END:VCALENDAR