BEGIN:VCALENDAR
VERSION:2.0
PRODID:-//MoreDirt v1.0//EN
BEGIN:VEVENT
DTSTAMP:20150730T130000Z
ORGANIZER;CN=TweedLove Festival:MAILTO:
STATUS:CONFIRMED
UID:MORESPORTSNETWORK2557
DTSTART:20180609T080000Z
DTEND:20180610T120000Z
SUMMARY:Whyte British Enduro Championships 2018
DESCRIPTION:Whyte British Enduro Championships 2018 - more details: https://www.moredirt.com/event/2557
X-ALT-DESC;FMTTYPE=text/html:Whyte British Enduro Championships 2018 - more details: https://www.moredirt.com/event/2557
LOCATION:
END:VEVENT
END:VCALENDAR