BEGIN:VCALENDAR
VERSION:2.0
PRODID:-//MoreDirt v1.0//EN
BEGIN:VEVENT
DTSTAMP:20150730T130000Z
ORGANIZER;CN=MBR Magazine:MAILTO:
STATUS:CONFIRMED
UID:MORESPORTSNETWORK2555
DTSTART:20180407T080000Z
DTEND:20180408T120000Z
SUMMARY:MBR Demo Day - Forest of Dean
DESCRIPTION:MBR Demo Day - Forest of Dean - more details: https://www.moredirt.com/event/2555
X-ALT-DESC;FMTTYPE=text/html:MBR Demo Day - Forest of Dean - more details: https://www.moredirt.com/event/2555
LOCATION:
END:VEVENT
END:VCALENDAR