BEGIN:VCALENDAR
VERSION:2.0
PRODID:-//MoreDirt v1.0//EN
BEGIN:VEVENT
DTSTAMP:20150730T130000Z
ORGANIZER;CN=MTBMeetUp:MAILTO:
STATUS:CONFIRMED
UID:MORESPORTSNETWORK2496
DTSTART:20180601T080000Z
DTEND:20180603T120000Z
SUMMARY:MTBMeetup 2018
DESCRIPTION:MTBMeetup 2018 - more details: https://www.moredirt.com/event/2496
X-ALT-DESC;FMTTYPE=text/html:MTBMeetup 2018 - more details: https://www.moredirt.com/event/2496
LOCATION:
END:VEVENT
END:VCALENDAR