BEGIN:VCALENDAR
VERSION:2.0
PRODID:-//MoreDirt v1.0//EN
BEGIN:VEVENT
DTSTAMP:20150730T130000Z
ORGANIZER;CN=Just Bikes Andover:MAILTO:
STATUS:CONFIRMED
UID:MORESPORTSNETWORK2485
DTSTART:20171004T080000Z
DTEND:20171004T120000Z
SUMMARY:Whyte Demo Day - Just Bikes Andover
DESCRIPTION:Whyte Demo Day - Just Bikes Andover - more details: https://www.moredirt.com/event/2485
X-ALT-DESC;FMTTYPE=text/html:Whyte Demo Day - Just Bikes Andover - more details: https://www.moredirt.com/event/2485
LOCATION:
END:VEVENT
END:VCALENDAR