BEGIN:VCALENDAR
VERSION:2.0
PRODID:-//MoreDirt v1.0//EN
BEGIN:VEVENT
DTSTAMP:20150730T130000Z
ORGANIZER;CN=Cyclewise:MAILTO:
STATUS:CONFIRMED
UID:MORESPORTSNETWORK2481
DTSTART:20171015T080000Z
DTEND:20171015T120000Z
SUMMARY:MTB Demo Day at Whinlatter
DESCRIPTION:MTB Demo Day at Whinlatter - more details: https://www.moredirt.com/event/2481
X-ALT-DESC;FMTTYPE=text/html:MTB Demo Day at Whinlatter - more details: https://www.moredirt.com/event/2481
LOCATION:
END:VEVENT
END:VCALENDAR