BEGIN:VCALENDAR
VERSION:2.0
PRODID:-//MoreDirt v1.0//EN
BEGIN:VEVENT
DTSTAMP:20150730T130000Z
ORGANIZER;CN=Rat Race Adventure Sports:MAILTO:
STATUS:CONFIRMED
UID:MORESPORTSNETWORK2480
DTSTART:20180810T080000Z
DTEND:20180810T120000Z
SUMMARY:Rat Race The Crossing
DESCRIPTION:Rat Race The Crossing - more details: https://www.moredirt.com/event/2480
X-ALT-DESC;FMTTYPE=text/html:Rat Race The Crossing - more details: https://www.moredirt.com/event/2480
LOCATION:
END:VEVENT
END:VCALENDAR