BEGIN:VCALENDAR
VERSION:2.0
PRODID:-//MoreDirt v1.0//EN
BEGIN:VEVENT
DTSTAMP:20150730T130000Z
ORGANIZER;CN=Boltby Bash Enduro:MAILTO:
STATUS:CONFIRMED
UID:MORESPORTSNETWORK2478
DTSTART:20180518T080000Z
DTEND:20180520T120000Z
SUMMARY:Boltby Bash 2018
DESCRIPTION:Boltby Bash 2018 - more details: https://www.moredirt.com/event/2478
X-ALT-DESC;FMTTYPE=text/html:Boltby Bash 2018 - more details: https://www.moredirt.com/event/2478
LOCATION:
END:VEVENT
END:VCALENDAR