BEGIN:VCALENDAR
VERSION:2.0
PRODID:-//MoreDirt v1.0//EN
BEGIN:VEVENT
DTSTAMP:20150730T130000Z
ORGANIZER;CN=Rutland Cycling:MAILTO:
STATUS:CONFIRMED
UID:MORESPORTSNETWORK2475
DTSTART:20171105T080000+0000
DTEND:20171105T120000+0000
SUMMARY:Rutland Cycling 2017 MTB Demo Day
DESCRIPTION:Rutland Cycling 2017 MTB Demo Day - more details: https://www.moredirt.com/event/2475
X-ALT-DESC;FMTTYPE=text/html:Rutland Cycling 2017 MTB Demo Day - more details: https://www.moredirt.com/event/2475
LOCATION:
END:VEVENT
END:VCALENDAR