BEGIN:VCALENDAR
VERSION:2.0
PRODID:-//MoreDirt v1.0//EN
BEGIN:VEVENT
DTSTAMP:20150730T130000Z
ORGANIZER;CN=Aboyne Bike Park:MAILTO:
STATUS:CONFIRMED
UID:MORESPORTSNETWORK2470
DTSTART:20170930T080000Z
DTEND:20170930T120000Z
SUMMARY:Aboyne Bike Park Open Day
DESCRIPTION:Aboyne Bike Park Open Day - more details: https://www.moredirt.com/event/2470
X-ALT-DESC;FMTTYPE=text/html:Aboyne Bike Park Open Day - more details: https://www.moredirt.com/event/2470
LOCATION:
END:VEVENT
END:VCALENDAR