BEGIN:VCALENDAR
VERSION:2.0
PRODID:-//MoreDirt v1.0//EN
BEGIN:VEVENT
DTSTAMP:20150730T130000Z
ORGANIZER;CN=Action Academy:MAILTO:
STATUS:CONFIRMED
UID:MORESPORTSNETWORK2469
DTSTART:20180824T080000Z
DTEND:20180827T120000Z
SUMMARY:Big Bike Bash 2018
DESCRIPTION:Big Bike Bash 2018 - more details: https://www.moredirt.com/event/2469
X-ALT-DESC;FMTTYPE=text/html:Big Bike Bash 2018 - more details: https://www.moredirt.com/event/2469
LOCATION:
END:VEVENT
END:VCALENDAR