BEGIN:VCALENDAR
VERSION:2.0
PRODID:-//MoreDirt v1.0//EN
BEGIN:VEVENT
DTSTAMP:20150730T130000Z
ORGANIZER;CN=MTB Uplifts:MAILTO:
STATUS:CONFIRMED
UID:MORESPORTSNETWORK2457
DTSTART:20170917T080000Z
DTEND:20170917T120000Z
SUMMARY:MTB Uplifts - Berwyn
DESCRIPTION:MTB Uplifts - Berwyn - more details: https://www.moredirt.com/event/2457
X-ALT-DESC;FMTTYPE=text/html:MTB Uplifts - Berwyn - more details: https://www.moredirt.com/event/2457
LOCATION:
END:VEVENT
END:VCALENDAR