BEGIN:VCALENDAR
VERSION:2.0
PRODID:-//MoreDirt v1.0//EN
BEGIN:VEVENT
DTSTAMP:20150730T130000Z
ORGANIZER;CN=Van Road Trails Club:MAILTO:
STATUS:CONFIRMED
UID:MORESPORTSNETWORK2451
DTSTART:20171022T080000Z
DTEND:20171022T120000Z
SUMMARY:Van Road Dual Slalom 2017
DESCRIPTION:Van Road Dual Slalom 2017 - more details: https://www.moredirt.com/event/2451
X-ALT-DESC;FMTTYPE=text/html:Van Road Dual Slalom 2017 - more details: https://www.moredirt.com/event/2451
LOCATION:
END:VEVENT
END:VCALENDAR