BEGIN:VCALENDAR
VERSION:2.0
PRODID:-//MoreDirt v1.0//EN
BEGIN:VEVENT
DTSTAMP:20150730T130000Z
ORGANIZER;CN=Kings Lynn MTB:MAILTO:
STATUS:CONFIRMED
UID:MORESPORTSNETWORK2443
DTSTART:20180218T080000+0000
DTEND:20180218T120000+0000
SUMMARY:KLMTB Winter Series 2017/18 - Round 4
DESCRIPTION:KLMTB Winter Series 2017/18 - Round 4 - more details: https://www.moredirt.com/event/2443
X-ALT-DESC;FMTTYPE=text/html:KLMTB Winter Series 2017/18 - Round 4 - more details: https://www.moredirt.com/event/2443
LOCATION:
END:VEVENT
END:VCALENDAR