BEGIN:VCALENDAR
VERSION:2.0
PRODID:-//MoreDirt v1.0//EN
BEGIN:VEVENT
DTSTAMP:20150730T130000Z
ORGANIZER;CN=MTB Uplifts:MAILTO:
STATUS:CONFIRMED
UID:MORESPORTSNETWORK2432
DTSTART:20170827T080000Z
DTEND:20170827T120000Z
SUMMARY:Cancelled - MTB Uplifts - Moelfre
DESCRIPTION:Cancelled - MTB Uplifts - Moelfre - more details: https://www.moredirt.com/event/2432
X-ALT-DESC;FMTTYPE=text/html:Cancelled - MTB Uplifts - Moelfre - more details: https://www.moredirt.com/event/2432
LOCATION:
END:VEVENT
END:VCALENDAR