BEGIN:VCALENDAR
VERSION:2.0
PRODID:-//MoreDirt v1.0//EN
BEGIN:VEVENT
DTSTAMP:20150730T130000Z
ORGANIZER;CN=Bespoked Bristol:MAILTO:
STATUS:CONFIRMED
UID:MORESPORTSNETWORK242
DTSTART:20120323T080000+0000
DTEND:20120325T120000Z
SUMMARY:Bespoked Bristol 2012
DESCRIPTION:Bespoked Bristol 2012 - more details: https://www.moredirt.com/event/242
X-ALT-DESC;FMTTYPE=text/html:Bespoked Bristol 2012 - more details: https://www.moredirt.com/event/242
LOCATION:
END:VEVENT
END:VCALENDAR