BEGIN:VCALENDAR
VERSION:2.0
PRODID:-//MoreDirt v1.0//EN
BEGIN:VEVENT
DTSTAMP:20150730T130000Z
ORGANIZER;CN=Dark & White Events:MAILTO:
STATUS:CONFIRMED
UID:MORESPORTSNETWORK2417
DTSTART:20171112T080000+0000
DTEND:20171112T120000+0000
SUMMARY:Three Counties MTB Marathon
DESCRIPTION:Three Counties MTB Marathon - more details: https://www.moredirt.com/event/2417
X-ALT-DESC;FMTTYPE=text/html:Three Counties MTB Marathon - more details: https://www.moredirt.com/event/2417
LOCATION:
END:VEVENT
END:VCALENDAR