BEGIN:VCALENDAR
VERSION:2.0
PRODID:-//MoreDirt v1.0//EN
BEGIN:VEVENT
DTSTAMP:20150730T130000Z
ORGANIZER;CN=Sutton Bank Bikes:MAILTO:
STATUS:CONFIRMED
UID:MORESPORTSNETWORK2416
DTSTART:20170930T080000Z
DTEND:20170930T120000Z
SUMMARY:Santa Cruz Demo Day
DESCRIPTION:Santa Cruz Demo Day - more details: https://www.moredirt.com/event/2416
X-ALT-DESC;FMTTYPE=text/html:Santa Cruz Demo Day - more details: https://www.moredirt.com/event/2416
LOCATION:
END:VEVENT
END:VCALENDAR