BEGIN:VCALENDAR
VERSION:2.0
PRODID:-//MoreDirt v1.0//EN
BEGIN:VEVENT
DTSTAMP:20150730T130000Z
ORGANIZER;CN=Irish MTB Girls:MAILTO:
STATUS:CONFIRMED
UID:MORESPORTSNETWORK2413
DTSTART:20170826T080000Z
DTEND:20170826T120000Z
SUMMARY:Dirty Dames 2017
DESCRIPTION:Dirty Dames 2017 - more details: https://www.moredirt.com/event/2413
X-ALT-DESC;FMTTYPE=text/html:Dirty Dames 2017 - more details: https://www.moredirt.com/event/2413
LOCATION:
END:VEVENT
END:VCALENDAR