BEGIN:VCALENDAR
VERSION:2.0
PRODID:-//MoreDirt v1.0//EN
BEGIN:VEVENT
DTSTAMP:20150730T130000Z
ORGANIZER;CN=Petalpower Biking:MAILTO:
STATUS:CONFIRMED
UID:MORESPORTSNETWORK2411
DTSTART:20170923T080000Z
DTEND:20170923T120000Z
SUMMARY:Ride Like a Grrl 2017
DESCRIPTION:Ride Like a Grrl 2017 - more details: https://www.moredirt.com/event/2411
X-ALT-DESC;FMTTYPE=text/html:Ride Like a Grrl 2017 - more details: https://www.moredirt.com/event/2411
LOCATION:
END:VEVENT
END:VCALENDAR