BEGIN:VCALENDAR
VERSION:2.0
PRODID:-//MoreDirt v1.0//EN
BEGIN:VEVENT
DTSTAMP:20150730T130000Z
ORGANIZER;CN=Cycles UK:MAILTO:
STATUS:CONFIRMED
UID:MORESPORTSNETWORK2410
DTSTART:20171007T080000Z
DTEND:20171008T120000Z
SUMMARY:Cycles UK Mountain Bike Demo Weekend
DESCRIPTION:Cycles UK Mountain Bike Demo Weekend - more details: https://www.moredirt.com/event/2410
X-ALT-DESC;FMTTYPE=text/html:Cycles UK Mountain Bike Demo Weekend - more details: https://www.moredirt.com/event/2410
LOCATION:
END:VEVENT
END:VCALENDAR