BEGIN:VCALENDAR
VERSION:2.0
PRODID:-//MoreDirt v1.0//EN
BEGIN:VEVENT
DTSTAMP:20150730T130000Z
ORGANIZER;CN=Brathay Cycling:MAILTO:
STATUS:CONFIRMED
UID:MORESPORTSNETWORK2409
DTSTART:20180901T080000Z
DTEND:20180902T120000Z
SUMMARY:The Adventure Cycle Festival 2018
DESCRIPTION:The Adventure Cycle Festival 2018 - more details: https://www.moredirt.com/event/2409
X-ALT-DESC;FMTTYPE=text/html:The Adventure Cycle Festival 2018 - more details: https://www.moredirt.com/event/2409
LOCATION:
END:VEVENT
END:VCALENDAR