BEGIN:VCALENDAR
VERSION:2.0
PRODID:-//MoreDirt v1.0//EN
BEGIN:VEVENT
DTSTAMP:20150730T130000Z
ORGANIZER;CN=Ride Retro MTB:MAILTO:
STATUS:CONFIRMED
UID:MORESPORTSNETWORK2401
DTSTART:20170808T080000Z
DTEND:20170808T120000Z
SUMMARY:SMBC Retro Bike Ride and Barbeque
DESCRIPTION:SMBC Retro Bike Ride and Barbeque - more details: https://www.moredirt.com/event/2401
X-ALT-DESC;FMTTYPE=text/html:SMBC Retro Bike Ride and Barbeque - more details: https://www.moredirt.com/event/2401
LOCATION:
END:VEVENT
END:VCALENDAR