BEGIN:VCALENDAR
VERSION:2.0
PRODID:-//MoreDirt v1.0//EN
BEGIN:VEVENT
DTSTAMP:20150730T130000Z
ORGANIZER;CN=Pivot Cycles UK:MAILTO:
STATUS:CONFIRMED
UID:MORESPORTSNETWORK2399
DTSTART:20170724T080000Z
DTEND:20170724T120000Z
SUMMARY:PIVOT Demo Day - Swinley Forest
DESCRIPTION:PIVOT Demo Day - Swinley Forest - more details: https://www.moredirt.com/event/2399
X-ALT-DESC;FMTTYPE=text/html:PIVOT Demo Day - Swinley Forest - more details: https://www.moredirt.com/event/2399
LOCATION:
END:VEVENT
END:VCALENDAR