BEGIN:VCALENDAR
VERSION:2.0
PRODID:-//MoreDirt v1.0//EN
BEGIN:VEVENT
DTSTAMP:20150730T130000Z
ORGANIZER;CN=Belchford Events:MAILTO:
STATUS:CONFIRMED
UID:MORESPORTSNETWORK2398
DTSTART:20170917T080000Z
DTEND:20170917T120000Z
SUMMARY:Lincolnshire Box Event Mountain Bike Adventure Crosstrail
DESCRIPTION:Lincolnshire Box Event Mountain Bike Adventure Crosstrail - more details: https://www.moredirt.com/event/2398
X-ALT-DESC;FMTTYPE=text/html:Lincolnshire Box Event Mountain Bike Adventure Crosstrail - more details: https://www.moredirt.com/event/2398
LOCATION:
END:VEVENT
END:VCALENDAR