BEGIN:VCALENDAR
VERSION:2.0
PRODID:-//MoreDirt v1.0//EN
BEGIN:VEVENT
DTSTAMP:20150730T130000Z
ORGANIZER;CN=Cycling Ireland:MAILTO:
STATUS:CONFIRMED
UID:MORESPORTSNETWORK2397
DTSTART:20170813T080000Z
DTEND:20170813T120000Z
SUMMARY:Mountain Bike Fest 2017
DESCRIPTION:Mountain Bike Fest 2017 - more details: https://www.moredirt.com/event/2397
X-ALT-DESC;FMTTYPE=text/html:Mountain Bike Fest 2017 - more details: https://www.moredirt.com/event/2397
LOCATION:
END:VEVENT
END:VCALENDAR