BEGIN:VCALENDAR
VERSION:2.0
PRODID:-//MoreDirt v1.0//EN
BEGIN:VEVENT
DTSTAMP:20150730T130000Z
ORGANIZER;CN=Hamsterlery Beast:MAILTO:
STATUS:CONFIRMED
UID:MORESPORTSNETWORK2391
DTSTART:20180512T080000Z
DTEND:20180513T120000Z
SUMMARY:The Hamsterley Beast 2018
DESCRIPTION:The Hamsterley Beast 2018 - more details: https://www.moredirt.com/event/2391
X-ALT-DESC;FMTTYPE=text/html:The Hamsterley Beast 2018 - more details: https://www.moredirt.com/event/2391
LOCATION:
END:VEVENT
END:VCALENDAR