BEGIN:VCALENDAR
VERSION:2.0
PRODID:-//MoreDirt v1.0//EN
BEGIN:VEVENT
DTSTAMP:20150730T130000Z
ORGANIZER;CN=Sutton Bank Bikes:MAILTO:
STATUS:CONFIRMED
UID:MORESPORTSNETWORK2389
DTSTART:20171112T080000+0000
DTEND:20171112T120000+0000
SUMMARY:Top Of The Rock
DESCRIPTION:Top Of The Rock - more details: https://www.moredirt.com/event/2389
X-ALT-DESC;FMTTYPE=text/html:Top Of The Rock - more details: https://www.moredirt.com/event/2389
LOCATION:
END:VEVENT
END:VCALENDAR