BEGIN:VCALENDAR
VERSION:2.0
PRODID:-//MoreDirt v1.0//EN
BEGIN:VEVENT
DTSTAMP:20150730T130000Z
ORGANIZER;CN=WHEELBASE North East:MAILTO:
STATUS:CONFIRMED
UID:MORESPORTSNETWORK2378
DTSTART:20170723T080000Z
DTEND:20170723T120000Z
SUMMARY:The Gathering - Summer Ride and BBQ
DESCRIPTION:The Gathering - Summer Ride and BBQ - more details: https://www.moredirt.com/event/2378
X-ALT-DESC;FMTTYPE=text/html:The Gathering - Summer Ride and BBQ - more details: https://www.moredirt.com/event/2378
LOCATION:
END:VEVENT
END:VCALENDAR