BEGIN:VCALENDAR
VERSION:2.0
PRODID:-//MoreDirt v1.0//EN
BEGIN:VEVENT
DTSTAMP:20150730T130000Z
ORGANIZER;CN=JE James Cycles:MAILTO:
STATUS:CONFIRMED
UID:MORESPORTSNETWORK2374
DTSTART:20170930T080000Z
DTEND:20171001T120000Z
SUMMARY:JE James Cyclefest 2018
DESCRIPTION:JE James Cyclefest 2018 - more details: https://www.moredirt.com/event/2374
X-ALT-DESC;FMTTYPE=text/html:JE James Cyclefest 2018 - more details: https://www.moredirt.com/event/2374
LOCATION:
END:VEVENT
END:VCALENDAR