BEGIN:VCALENDAR
VERSION:2.0
PRODID:-//MoreDirt v1.0//EN
BEGIN:VEVENT
DTSTAMP:20150730T130000Z
ORGANIZER;CN=:MAILTO:
STATUS:CONFIRMED
UID:MORESPORTSNETWORK2373
DTSTART:20170626T080000Z
DTEND:20170626T120000Z
SUMMARY:Electric Bike Demo - Gisburn Forest
DESCRIPTION:Electric Bike Demo - Gisburn Forest - more details: https://www.moredirt.com/event/2373
X-ALT-DESC;FMTTYPE=text/html:Electric Bike Demo - Gisburn Forest - more details: https://www.moredirt.com/event/2373
LOCATION:
END:VEVENT
END:VCALENDAR